BEGIN:VCALENDAR
VERSION:2.0
PRODID:-//Sierra HR Partners - ECPv6.15.20//NONSGML v1.0//EN
CALSCALE:GREGORIAN
METHOD:PUBLISH
X-ORIGINAL-URL:https://sierrahr.com
X-WR-CALDESC:Events for Sierra HR Partners
REFRESH-INTERVAL;VALUE=DURATION:PT1H
X-Robots-Tag:noindex
X-PUBLISHED-TTL:PT1H
BEGIN:VTIMEZONE
TZID:America/Los_Angeles
BEGIN:DAYLIGHT
TZOFFSETFROM:-0800
TZOFFSETTO:-0700
TZNAME:PDT
DTSTART:20240310T100000
END:DAYLIGHT
BEGIN:STANDARD
TZOFFSETFROM:-0700
TZOFFSETTO:-0800
TZNAME:PST
DTSTART:20241103T090000
END:STANDARD
BEGIN:DAYLIGHT
TZOFFSETFROM:-0800
TZOFFSETTO:-0700
TZNAME:PDT
DTSTART:20250309T100000
END:DAYLIGHT
BEGIN:STANDARD
TZOFFSETFROM:-0700
TZOFFSETTO:-0800
TZNAME:PST
DTSTART:20251102T090000
END:STANDARD
BEGIN:DAYLIGHT
TZOFFSETFROM:-0800
TZOFFSETTO:-0700
TZNAME:PDT
DTSTART:20260308T100000
END:DAYLIGHT
BEGIN:STANDARD
TZOFFSETFROM:-0700
TZOFFSETTO:-0800
TZNAME:PST
DTSTART:20261101T090000
END:STANDARD
END:VTIMEZONE
BEGIN:VEVENT
DTSTART;TZID=America/Los_Angeles:20251119T090000
DTEND;TZID=America/Los_Angeles:20251119T113000
DTSTAMP:20260424T025407
CREATED:20251009T175745Z
LAST-MODIFIED:20251009T175900Z
UID:10000701-1763542800-1763551800@sierrahr.com
SUMMARY:Time Management: Work/Life Balance - Webinar
DESCRIPTION:Time Management: Work/Life Balance\nCost: $69 per person / 3 or more signed up $59 per person\nDo you ever feel like you’re running in circles and not getting anything important accomplished?\nIs everyone else setting priorities for you?\nJoin us to enhance your effectiveness by beginning with the end in mind\, and putting “first-things” first.\nJoin us\, and learn practical and proactive strategies to effectively manage your workload and juggle competing priorities. Includes video clip segments from Stephen Covey’s Habit 3 – “Put First Things First”. Sign up today and take control of your schedule and gain balance in your life to achieve the results that really matter!\nAt the end of this interactive workshop\, participants will be able to:\n\n\nUnderstand how to deal with key priorities first and spend less time in crisis mode\n\n\nEnhance key relationships for greater effectiveness\n\n\nReduce/eliminate unimportant activities by making better choices\n\n\nExercise integrity in the moment of choice to act on what matters most\n\n\nWebinar login details and handouts will be emailed to all registrants the afternoon before the event. Certificates of completion are typically issued within 2–3 weeks. \nCancellation Policy: Cancellations or no-shows made less than 48 hours before the webinar will be billed. Substitutions are allowed; please inform us of any participant changes before the event. \nRegister below with Jotform.  \n_ _ _ _ _ _ _ _ _ _ _ _ _ _ _ _ _ _ _ _ _ _ _ _ _ _ _ _ _ _ _ _ _ _ _ _ _ _ _ _ _ _ _ _ _ _ _ _ _ _ _ _ _ _ _ _ _ _ _ _ _ _ _ _ _ _ _ _ _ _ _ _ _ _ _ _ _ _ _ _ _ _ _ _ _ _ _ _ _ _ \n \n_ _ _ _ _ _ _ _ _ _ _ _ _ _ _ _ _ _ _ _ _ _ _ _ _ _ _ _ _ _ _ _ _ _ _ _ _ _ _ _ _ _ _ _ _ _ _ _ _ _ _ _ _ _ _ _ _ _ _ _ _ _ _ _ _ _ _ _ _ _ _ _ _ _ _ _ _ _ _ _ _ _ _ _ _ _ _ _ _ _ \n \nAt Sierra HR Partners\, we’re dedicated to serving organizations of all sizes and industries by addressing their HR needs so they can focus on growing their business. We’d appreciate your input to ensure our workshops deliver the most relevant and actionable content! Please consider taking our short survey to help us tailor our offerings to meet your needs. Together\, we can build stronger teams and thriving businesses!
URL:https://sierrahr.com/event/time-management-work-life-balance-webinar/
CATEGORIES:Leadership Academy
END:VEVENT
END:VCALENDAR