BEGIN:VCALENDAR
VERSION:2.0
PRODID:-//Sierra HR Partners - ECPv6.15.20//NONSGML v1.0//EN
CALSCALE:GREGORIAN
METHOD:PUBLISH
X-ORIGINAL-URL:https://sierrahr.com
X-WR-CALDESC:Events for Sierra HR Partners
REFRESH-INTERVAL;VALUE=DURATION:PT1H
X-Robots-Tag:noindex
X-PUBLISHED-TTL:PT1H
BEGIN:VTIMEZONE
TZID:America/Los_Angeles
BEGIN:DAYLIGHT
TZOFFSETFROM:-0800
TZOFFSETTO:-0700
TZNAME:PDT
DTSTART:20240310T100000
END:DAYLIGHT
BEGIN:STANDARD
TZOFFSETFROM:-0700
TZOFFSETTO:-0800
TZNAME:PST
DTSTART:20241103T090000
END:STANDARD
BEGIN:DAYLIGHT
TZOFFSETFROM:-0800
TZOFFSETTO:-0700
TZNAME:PDT
DTSTART:20250309T100000
END:DAYLIGHT
BEGIN:STANDARD
TZOFFSETFROM:-0700
TZOFFSETTO:-0800
TZNAME:PST
DTSTART:20251102T090000
END:STANDARD
BEGIN:DAYLIGHT
TZOFFSETFROM:-0800
TZOFFSETTO:-0700
TZNAME:PDT
DTSTART:20260308T100000
END:DAYLIGHT
BEGIN:STANDARD
TZOFFSETFROM:-0700
TZOFFSETTO:-0800
TZNAME:PST
DTSTART:20261101T090000
END:STANDARD
END:VTIMEZONE
BEGIN:VEVENT
DTSTART;TZID=America/Los_Angeles:20251209T090000
DTEND;TZID=America/Los_Angeles:20251209T110000
DTSTAMP:20260420T011658
CREATED:20251009T181134Z
LAST-MODIFIED:20251009T181134Z
UID:10000705-1765270800-1765278000@sierrahr.com
SUMMARY:Avoiding Burnout - Webinar
DESCRIPTION:Time Management: Avoiding Burnout\nCost: $69 per person / 3 or more signed up $59 per person\nIn this webinar we will discuss sources of stress and how we can utilize enactive\, proactive\, and reactive strategies to improve our response to stress. \nThese strategies include effective and efficient time management\, improving interpersonal interactions and relationships\, building up individual resilience\, and coping mechanisms. \nWe will also discuss an approach to work/life balance\, including tangible tips to more effectively use our time and questions to help participants consider what is really important to them. \nWebinar login details and handouts will be emailed to all registrants the afternoon before the event. Certificates of completion are typically issued within 2–3 weeks. \nCancellation Policy: Cancellations or no-shows made less than 48 hours before the webinar will be billed. Substitutions are allowed; please inform us of any participant changes before the event. \nRegister below with Jotform.  \n_ _ _ _ _ _ _ _ _ _ _ _ _ _ _ _ _ _ _ _ _ _ _ _ _ _ _ _ _ _ _ _ _ _ _ _ _ _ _ _ _ _ _ _ _ _ _ _ _ _ _ _ _ _ _ _ _ _ _ _ _ _ _ _ _ _ _ _ _ _ _ _ _ _ _ _ _ _ _ _ _ _ _ _ _ _ _ _ _ _ \n \n_ _ _ _ _ _ _ _ _ _ _ _ _ _ _ _ _ _ _ _ _ _ _ _ _ _ _ _ _ _ _ _ _ _ _ _ _ _ _ _ _ _ _ _ _ _ _ _ _ _ _ _ _ _ _ _ _ _ _ _ _ _ _ _ _ _ _ _ _ _ _ _ _ _ _ _ _ _ _ _ _ _ _ _ _ _ _ _ _ _ \n \nAt Sierra HR Partners\, we’re dedicated to serving organizations of all sizes and industries by addressing their HR needs so they can focus on growing their business. We’d appreciate your input to ensure our workshops deliver the most relevant and actionable content! Please consider taking our short survey to help us tailor our offerings to meet your needs. Together\, we can build stronger teams and thriving businesses!
URL:https://sierrahr.com/event/avoiding-burnout-webinar/
CATEGORIES:Leadership Academy
END:VEVENT
END:VCALENDAR