BEGIN:VCALENDAR
VERSION:2.0
PRODID:-//Sierra HR Partners - ECPv6.15.20//NONSGML v1.0//EN
CALSCALE:GREGORIAN
METHOD:PUBLISH
X-WR-CALNAME:Sierra HR Partners
X-ORIGINAL-URL:https://sierrahr.com
X-WR-CALDESC:Events for Sierra HR Partners
REFRESH-INTERVAL;VALUE=DURATION:PT1H
X-Robots-Tag:noindex
X-PUBLISHED-TTL:PT1H
BEGIN:VTIMEZONE
TZID:America/Los_Angeles
BEGIN:DAYLIGHT
TZOFFSETFROM:-0800
TZOFFSETTO:-0700
TZNAME:PDT
DTSTART:20250309T100000
END:DAYLIGHT
BEGIN:STANDARD
TZOFFSETFROM:-0700
TZOFFSETTO:-0800
TZNAME:PST
DTSTART:20251102T090000
END:STANDARD
BEGIN:DAYLIGHT
TZOFFSETFROM:-0800
TZOFFSETTO:-0700
TZNAME:PDT
DTSTART:20260308T100000
END:DAYLIGHT
BEGIN:STANDARD
TZOFFSETFROM:-0700
TZOFFSETTO:-0800
TZNAME:PST
DTSTART:20261101T090000
END:STANDARD
BEGIN:DAYLIGHT
TZOFFSETFROM:-0800
TZOFFSETTO:-0700
TZNAME:PDT
DTSTART:20270314T100000
END:DAYLIGHT
BEGIN:STANDARD
TZOFFSETFROM:-0700
TZOFFSETTO:-0800
TZNAME:PST
DTSTART:20271107T090000
END:STANDARD
END:VTIMEZONE
BEGIN:VEVENT
DTSTART;TZID=America/Los_Angeles:20260520T090000
DTEND;TZID=America/Los_Angeles:20260520T110000
DTSTAMP:20260420T011431
CREATED:20260324T155451Z
LAST-MODIFIED:20260415T163451Z
UID:10000743-1779267600-1779274800@sierrahr.com
SUMMARY:Adapting Communication to Improve Collaboration: Understanding DiSC Behavioral Styles - Webinar
DESCRIPTION:Adapting Communication to Improve Collaboration: Understanding DiSC Behavioral Styles – Webinar \nDate: May 20\, 2026 \nTime: 9:00 am – 11:00 am \nCost: $99 per person \nRSVP and Pre-Pay by May 15th to receive your personalized assessment. \nCommunicating with others is often identified as the primary building block in relationships – both personally and professionally. This workshop\, and the accompanying DISC profile assessment tool\, provide valuable insights that will substantially increase your compatibility and communication effectiveness with others by: \n\nUnderstanding your own style so you can leverage your strengths and avoid your weaknesses;\nIdentify other people’s styles; and\nAdapt your own behavior so you can treat people the way they want to be treated\n\nStandalone DiSC Assessment reports typically cost $99. When you register and prepay for this workshop by May 15\, you will receive the DiSC Assessment\, a personalized profile summary report\, and the accompanying training…all for $99! \nPlease be sure to provide your email address during registration to receive your DiSC assessment link and personalized report. Once DiSC assessment links have been issued\, refunds or cancellations are no longer available for this event. \n_ _ _ _ _ _ _ _ _ _ _ _ _ _ _ _ _ _ _ _ _ _ _ _ _ _ _ _ _ _ _ _ _ _ _ _ _ _ _ _ _ _ _ _ _ _ _ _ _ _ _ _ _ _ _ _ _ _ _ _ _ _ _ _ _ _ _ _ _ _ _ _ _ _ _ _ _ _ _ _ _ _ _ _ _ _ _ _ _ _ \nRegister below with Jotform.  \n  \n \n_ _ _ _ _ _ _ _ _ _ _ _ _ _ _ _ _ _ _ _ _ _ _ _ _ _ _ _ _ _ _ _ _ _ _ _ _ _ _ _ _ _ _ _ _ _ _ _ _ _ _ _ _ _ _ _ _ _ _ _ _ _ _ _ _ _ _ _ _ _ _ _ _ _ _ _ _ _ _ _ _ _ _ _ _ _ _ _ _ _ \n \nAt Sierra HR Partners\, we’re dedicated to serving organizations of all sizes and industries by addressing their HR needs so they can focus on growing their business. We’d appreciate your input to ensure our workshops deliver the most relevant and actionable content! Please consider taking our short survey to help us tailor our offerings to meet your needs. Together\, we can build stronger teams and thriving businesses! \n 
URL:https://sierrahr.com/event/adapting-communication-to-improve-collaboration-understanding-disc-behavioral-styles-webinar-2/
CATEGORIES:Leadership Academy
ORGANIZER;CN="Kayla Padilla - Sierra HR Partners%2C Inc.":MAILTO:padilla@sierrahr.com
END:VEVENT
END:VCALENDAR