BEGIN:VCALENDAR
VERSION:2.0
PRODID:-//Sierra HR Partners - ECPv6.15.20//NONSGML v1.0//EN
CALSCALE:GREGORIAN
METHOD:PUBLISH
X-WR-CALNAME:Sierra HR Partners
X-ORIGINAL-URL:https://sierrahr.com
X-WR-CALDESC:Events for Sierra HR Partners
REFRESH-INTERVAL;VALUE=DURATION:PT1H
X-Robots-Tag:noindex
X-PUBLISHED-TTL:PT1H
BEGIN:VTIMEZONE
TZID:America/Los_Angeles
BEGIN:DAYLIGHT
TZOFFSETFROM:-0800
TZOFFSETTO:-0700
TZNAME:PDT
DTSTART:20240310T100000
END:DAYLIGHT
BEGIN:STANDARD
TZOFFSETFROM:-0700
TZOFFSETTO:-0800
TZNAME:PST
DTSTART:20241103T090000
END:STANDARD
BEGIN:DAYLIGHT
TZOFFSETFROM:-0800
TZOFFSETTO:-0700
TZNAME:PDT
DTSTART:20250309T100000
END:DAYLIGHT
BEGIN:STANDARD
TZOFFSETFROM:-0700
TZOFFSETTO:-0800
TZNAME:PST
DTSTART:20251102T090000
END:STANDARD
BEGIN:DAYLIGHT
TZOFFSETFROM:-0800
TZOFFSETTO:-0700
TZNAME:PDT
DTSTART:20260308T100000
END:DAYLIGHT
BEGIN:STANDARD
TZOFFSETFROM:-0700
TZOFFSETTO:-0800
TZNAME:PST
DTSTART:20261101T090000
END:STANDARD
END:VTIMEZONE
BEGIN:VEVENT
DTSTART;TZID=America/Los_Angeles:20250916T110000
DTEND;TZID=America/Los_Angeles:20250916T120000
DTSTAMP:20260424T065149
CREATED:20250718T194205Z
LAST-MODIFIED:20250811T180330Z
UID:10000690-1758020400-1758024000@sierrahr.com
SUMMARY:Lunch & Learn Training Opportunity\, Start Right to Stay Right: Effective Orientation
DESCRIPTION:Lunch & Learn Training Opportunity\, Start Right to Stay Right: Effective Orientation (Webinar)\nTime: 11:00 am – 12:00 pm\nCost: $35 per person\, or 3+ RSVP’s for $25. HR Business Partner Pricing:  1 FREE RSVP for HRBPs\, all additional RSVP’s are $25.\nBoost Retention and Engagement from Day One! \nYou’ve finally found the perfect candidate for that long-open position\, but what are you doing to ensure the right first impression? A new employee’s first week can make all the difference in how long they decide to stay with an organization and how they engage while they remain. Do your onboarding practices encourage long-term success or have new hires planning their exit? \nJoin us for Start Right to Stay Right: Effective Orientation to learn how you can transform the way your organization onboards new employees. We’ll discuss practical milestones and tools that create meaningful\, engaging\, and lasting experiences for your new employees. \nDuring this workshop\, you’ll learn how to: \n\nSet clear expectations and avoid unmet expectations.\nDesign an orientation that boosts connection and achievement from day one.\nPace orientation to avoid employee overload and discouragement.\nConnect new employees to critical stakeholders.\nPromote a framework that keeps you aware of concerns or questions that require your attention.\n\nWebinar login details and handouts will be emailed to all registrants the afternoon before the event. Certificates of completion are typically issued within 2–3 weeks. \nCancellation Policy: Cancellations or no-shows made less than 48 hours before the webinar will be billed. Substitutions are allowed; please inform us of any participant changes before the event. \nRegister below with Jotform. \n_ _ _ _ _ _ _ _ _ _ _ _ _ _ _ _ _ _ _ _ _ _ _ _ _ _ _ _ _ _ _ _ _ _ _ _ _ _ _ _ _ _ _ _ _ _ _ _ _ _ _ _ _ _ _ _ _ _ _ _ _ _ _ _ _ _ _ _ _ _ _ _ _ _ _ _ _ _ _ _ _ _ _ _ _ _ _ _ _ _ \n \n_ _ _ _ _ _ _ _ _ _ _ _ _ _ _ _ _ _ _ _ _ _ _ _ _ _ _ _ _ _ _ _ _ _ _ _ _ _ _ _ _ _ _ _ _ _ _ _ _ _ _ _ _ _ _ _ _ _ _ _ _ _ _ _ _ _ _ _ _ _ _ _ _ _ _ _ _ _ _ _ _ _ _ _ _ _ _ _ _ _ \n \nAt Sierra HR Partners\, we’re dedicated to serving organizations of all sizes and industries by addressing their HR needs so they can focus on growing their business. We’d appreciate your input to ensure our workshops deliver the most relevant and actionable content! Please consider taking our short survey to help us tailor our offerings to meet your needs. Together\, we can build stronger teams and thriving businesses!
URL:https://sierrahr.com/event/lunch-learn-training-opportunity-start-right-to-stay-right-effective-orientation/
CATEGORIES:lunch and learn
END:VEVENT
END:VCALENDAR