BEGIN:VCALENDAR
VERSION:2.0
PRODID:-//Sierra HR Partners - ECPv6.15.20//NONSGML v1.0//EN
CALSCALE:GREGORIAN
METHOD:PUBLISH
X-ORIGINAL-URL:https://sierrahr.com
X-WR-CALDESC:Events for Sierra HR Partners
REFRESH-INTERVAL;VALUE=DURATION:PT1H
X-Robots-Tag:noindex
X-PUBLISHED-TTL:PT1H
BEGIN:VTIMEZONE
TZID:America/Los_Angeles
BEGIN:DAYLIGHT
TZOFFSETFROM:-0800
TZOFFSETTO:-0700
TZNAME:PDT
DTSTART:20240310T100000
END:DAYLIGHT
BEGIN:STANDARD
TZOFFSETFROM:-0700
TZOFFSETTO:-0800
TZNAME:PST
DTSTART:20241103T090000
END:STANDARD
BEGIN:DAYLIGHT
TZOFFSETFROM:-0800
TZOFFSETTO:-0700
TZNAME:PDT
DTSTART:20250309T100000
END:DAYLIGHT
BEGIN:STANDARD
TZOFFSETFROM:-0700
TZOFFSETTO:-0800
TZNAME:PST
DTSTART:20251102T090000
END:STANDARD
BEGIN:DAYLIGHT
TZOFFSETFROM:-0800
TZOFFSETTO:-0700
TZNAME:PDT
DTSTART:20260308T100000
END:DAYLIGHT
BEGIN:STANDARD
TZOFFSETFROM:-0700
TZOFFSETTO:-0800
TZNAME:PST
DTSTART:20261101T090000
END:STANDARD
END:VTIMEZONE
BEGIN:VEVENT
DTSTART;TZID=America/Los_Angeles:20251211T110000
DTEND;TZID=America/Los_Angeles:20251211T120000
DTSTAMP:20260422T094832
CREATED:20251009T180632Z
LAST-MODIFIED:20251009T180632Z
UID:10000704-1765450800-1765454400@sierrahr.com
SUMMARY:Lunch & Learn Training Opportunity\, Essential Habits of Successful Supervisors - Webinar
DESCRIPTION:Lunch & Learn Training Opportunity\, Essential Habits of Successful Supervisors (Webinar)\nTime: 11:00 am – 12:00 pm\nCost: $35 per person\, or 3+ RSVP’s for $25. HR Business Partner Pricing:  1 FREE RSVP for HRBPs\, all additional RSVP’s are $25.\nJoin us for this engaging session designed especially for new and emerging supervisors! We’ll explore key habits that set great leaders apart — from establishing professional boundaries and leading by example to providing clear\, timely feedback and maintaining confidentiality.  \nLearn how to recognize and respond appropriately to employee concerns\, including sensitive issues like harassment and accommodation requests\, and understand when to involve HR or upper management. \nThis Lunch & Learn will equip supervisors with practical tools to build trust\, model professionalism\, and foster a positive\, compliant workplace culture. \nWebinar login details and handouts will be emailed to all registrants the afternoon before the event. Certificates of completion are typically issued within 2–3 weeks. \nCancellation Policy: Cancellations or no-shows made less than 48 hours before the webinar will be billed. Substitutions are allowed; please inform us of any participant changes before the event. \nRegister below with Jotform. \n_ _ _ _ _ _ _ _ _ _ _ _ _ _ _ _ _ _ _ _ _ _ _ _ _ _ _ _ _ _ _ _ _ _ _ _ _ _ _ _ _ _ _ _ _ _ _ _ _ _ _ _ _ _ _ _ _ _ _ _ _ _ _ _ _ _ _ _ _ _ _ _ _ _ _ _ _ _ _ _ _ _ _ _ _ _ _ _ _ _ \n \n_ _ _ _ _ _ _ _ _ _ _ _ _ _ _ _ _ _ _ _ _ _ _ _ _ _ _ _ _ _ _ _ _ _ _ _ _ _ _ _ _ _ _ _ _ _ _ _ _ _ _ _ _ _ _ _ _ _ _ _ _ _ _ _ _ _ _ _ _ _ _ _ _ _ _ _ _ _ _ _ _ _ _ _ _ _ _ _ _ _ \n \nAt Sierra HR Partners\, we’re dedicated to serving organizations of all sizes and industries by addressing their HR needs so they can focus on growing their business. We’d appreciate your input to ensure our workshops deliver the most relevant and actionable content! Please consider taking our short survey to help us tailor our offerings to meet your needs. Together\, we can build stronger teams and thriving businesses!
URL:https://sierrahr.com/event/lunch-learn-training-opportunity-essential-habits-of-successful-supervisors-webinar/
CATEGORIES:lunch and learn
END:VEVENT
END:VCALENDAR