BEGIN:VCALENDAR
VERSION:2.0
PRODID:-//Sierra HR Partners - ECPv6.15.20//NONSGML v1.0//EN
CALSCALE:GREGORIAN
METHOD:PUBLISH
X-WR-CALNAME:Sierra HR Partners
X-ORIGINAL-URL:https://sierrahr.com
X-WR-CALDESC:Events for Sierra HR Partners
REFRESH-INTERVAL;VALUE=DURATION:PT1H
X-Robots-Tag:noindex
X-PUBLISHED-TTL:PT1H
BEGIN:VTIMEZONE
TZID:America/Los_Angeles
BEGIN:DAYLIGHT
TZOFFSETFROM:-0800
TZOFFSETTO:-0700
TZNAME:PDT
DTSTART:20240310T100000
END:DAYLIGHT
BEGIN:STANDARD
TZOFFSETFROM:-0700
TZOFFSETTO:-0800
TZNAME:PST
DTSTART:20241103T090000
END:STANDARD
BEGIN:DAYLIGHT
TZOFFSETFROM:-0800
TZOFFSETTO:-0700
TZNAME:PDT
DTSTART:20250309T100000
END:DAYLIGHT
BEGIN:STANDARD
TZOFFSETFROM:-0700
TZOFFSETTO:-0800
TZNAME:PST
DTSTART:20251102T090000
END:STANDARD
BEGIN:DAYLIGHT
TZOFFSETFROM:-0800
TZOFFSETTO:-0700
TZNAME:PDT
DTSTART:20260308T100000
END:DAYLIGHT
BEGIN:STANDARD
TZOFFSETFROM:-0700
TZOFFSETTO:-0800
TZNAME:PST
DTSTART:20261101T090000
END:STANDARD
END:VTIMEZONE
BEGIN:VEVENT
DTSTART;TZID=America/Los_Angeles:20250507T120000
DTEND;TZID=America/Los_Angeles:20250507T130000
DTSTAMP:20260424T075412
CREATED:20250407T160846Z
LAST-MODIFIED:20250430T181851Z
UID:10000672-1746619200-1746622800@sierrahr.com
SUMMARY:Lunch & Learn Training Opportunity: Employee Documentation - How and Why To Do It Right - Webinar
DESCRIPTION:Lunch & Learn Training Opportunity: Employee Documentation – How and Why To Do It Right (Webinar)\nTime: 12:00 pm – 1:00 pm\nCost: $35 per person ($25 for HR Business Partners)\, or $25 per person when 3 or more from your company are registered!\n \nEmployee Documentation: How and Why to Do it Right – A 1-Hour Lunch & Learn Webinar \nEffective employee documentation is critical for your role as a manager. Join us for a one-hour lunch and learn session where we’ll break down the who\, what\, when\, how\, and why of employee documentation. \nIn this webinar\, we’ll cover: \n– Who is responsible for maintaining documentation \n– What to document\, from performance and attendance to areas for improvement \n– When to document issues and successes \n– How to organize and manage all the notes \n– Why it matters: protecting both the company and your own decisions\, building trust\, supporting promotions\, and even safeguarding against legal issues \nBy the end of this session\, you’ll have the tools and confidence to maintain clear\, consistent records that ensure your employees receive the feedback they need\, and you are prepared for any future decisions or challenges. \nSign up now and boost your documentation skills! \n_ _ _ _ _ _ _ _ _ _ _ _ _ _ _ _ _ _ _ _ _ _ _ _ _ _ _ _ _ _ _ _ _ _ _ _ _ _ _ _ _ _ _ _ _ _ _ _ _ _ _ _ _ _ _ _ _ _ _ _ _ _ _ _ _ _ _ _ _ _ _ _ _ _ _ _ _ _ _ _ _ _ _ _ _ _ _ _ _ _ \n \n_ _ _ _ _ _ _ _ _ _ _ _ _ _ _ _ _ _ _ _ _ _ _ _ _ _ _ _ _ _ _ _ _ _ _ _ _ _ _ _ _ _ _ _ _ _ _ _ _ _ _ _ _ _ _ _ _ _ _ _ _ _ _ _ _ _ _ _ _ _ _ _ _ _ _ _ _ _ _ _ _ _ _ _ _ _ _ _ _ _ \n \nAt Sierra HR Partners\, we’re dedicated to serving organizations of all sizes and industries by addressing their HR needs so they can focus on growing their business. We’d appreciate your input to ensure our workshops deliver the most relevant and actionable content! Please consider taking our short survey to help us tailor our offerings to meet your needs. Together\, we can build stronger teams and thriving businesses!
URL:https://sierrahr.com/event/lunch-learn-training-opportunity-employee-documentation-how-and-why-to-do-it-right-webinar/
CATEGORIES:lunch and learn
END:VEVENT
BEGIN:VEVENT
DTSTART;TZID=America/Los_Angeles:20250430T090000
DTEND;TZID=America/Los_Angeles:20250430T100000
DTSTAMP:20260424T075412
CREATED:20241219T001812Z
LAST-MODIFIED:20241219T185537Z
UID:10000661-1746003600-1746007200@sierrahr.com
SUMMARY:HR Building Blocks #6: Background Investigations
DESCRIPTION:If you were to describe the “fun side” of HR\, it would probably include engaging recruiting efforts and exciting rewards programs. You wouldn’t likely think of lesser-loved topics like handbook policies and salary ranges. These HR basics are often low on the priority list (perhaps developed at the gentle nudging of your friendly HR Consultant?) and left to collect dust in a binder on your office shelf…but they are so much more than simply boxes to check on your HR to-do list! These documents and programs should serve as the strong foundation upon which those more fun HR initiatives can stand. \nJoin us for a 6-part training series to explore how key HR Building Blocks can: \n– Demonstrate legal compliance\, helping you minimize and defend legal claims. \n– Support consistency in company expectations and management decision-making\, boosting productivity\, efficiency\, company growth. \n– Maintain employee confidence and a positive employee experience\, supporting positive morale and employee retention. \n– This training series will provide new managers with a helpful overview of core HR functions\, and remind seasoned HR professionals that our attention to these details is important and valuable! \n \nHR Building Blocks #6: Background Investigations – Webinar \nDate: April 30\, 2025 \nTime: 9:00 AM – 10:00 AM \nCost: $35 per participant. Participants who sign up for the entire six-part series will receive a discounted rate of $30 per workshop.  \nThorough background investigations support smart hiring decisions\, ensuring employees actually have the experience and qualifications described on a resume. They can also help the company avoid safety and security problems\, and even negligent hiring claims\, by uncovering problematic behavior before it can impact the workplace. \nWebinar log-in information and handouts will be provided via e-mail to all registrants the afternoon before the event.  \nCertificates of completion are included and are generally provided within 2 – 3 weeks. \nCancellation Policy: No-shows and cancellations that occur less than 48 hours in advance will be billed. Substitutions will be accepted. Please let us know about changes in staffing before the webinar. \nRegister below with Jotform. 
URL:https://sierrahr.com/event/hr-building-blocks-6-background-investigations/
CATEGORIES:HR Building Blocks
ORGANIZER;CN="Kayla Padilla - Sierra HR Partners%2C Inc.":MAILTO:padilla@sierrahr.com
END:VEVENT
END:VCALENDAR